BEGIN:VCALENDAR
VERSION:2.0
PRODID:-//Butte-Silver Bow Public Archives - ECPv6.15.20//NONSGML v1.0//EN
CALSCALE:GREGORIAN
METHOD:PUBLISH
X-ORIGINAL-URL:https://buttearchives.org
X-WR-CALDESC:Events for Butte-Silver Bow Public Archives
REFRESH-INTERVAL;VALUE=DURATION:PT1H
X-Robots-Tag:noindex
X-PUBLISHED-TTL:PT1H
BEGIN:VTIMEZONE
TZID:America/Denver
BEGIN:DAYLIGHT
TZOFFSETFROM:-0700
TZOFFSETTO:-0600
TZNAME:MDT
DTSTART:20250309T090000
END:DAYLIGHT
BEGIN:STANDARD
TZOFFSETFROM:-0600
TZOFFSETTO:-0700
TZNAME:MST
DTSTART:20251102T080000
END:STANDARD
BEGIN:DAYLIGHT
TZOFFSETFROM:-0700
TZOFFSETTO:-0600
TZNAME:MDT
DTSTART:20260308T090000
END:DAYLIGHT
BEGIN:STANDARD
TZOFFSETFROM:-0600
TZOFFSETTO:-0700
TZNAME:MST
DTSTART:20261101T080000
END:STANDARD
BEGIN:DAYLIGHT
TZOFFSETFROM:-0700
TZOFFSETTO:-0600
TZNAME:MDT
DTSTART:20270314T090000
END:DAYLIGHT
BEGIN:STANDARD
TZOFFSETFROM:-0600
TZOFFSETTO:-0700
TZNAME:MST
DTSTART:20271107T080000
END:STANDARD
END:VTIMEZONE
BEGIN:VEVENT
DTSTART;TZID=America/Denver:20260201T140000
DTEND;TZID=America/Denver:20260201T160000
DTSTAMP:20260421T030459
CREATED:20260112T183931Z
LAST-MODIFIED:20260112T184227Z
UID:29155-1769954400-1769961600@buttearchives.org
SUMMARY:St. Brigid's Day Celebration
DESCRIPTION:The Friends of the Butte Archives invite the public to a special St. Brigid’s Day event on Sunday\, February 1\, 2025\, at 2:00 p.m. at Sláinte\, located at 8 S. Montana Street. \nSt. Brigid is revered as both a Celtic goddess and Ireland’s only female patron saint. Attendees will discover stories of Butte’s own remarkable women who shaped the community’s cultural and social history\, and highlight two locally women-owned businesses. \nThe event will also include a hands-on activity where participants can create their own St. Brigid’s Cross\, a traditional symbol of protection and renewal associated with the saint and the coming of spring. \nThe program is sponsored by the Friends of the Butte Archives and is open to the public. Community members of all ages are welcome to attend. \nFor more information\, please contact:\nButte-Silver Bow Public Archives\n406-782-3280
URL:https://buttearchives.org/event/st-brigids-day-celebration/
LOCATION:Sláinte\, 8 S Montana St\, Butte\, MT\, 59701\, United States
ATTACH;FMTTYPE=image/png:https://buttearchives.org/wp-content/uploads/2026/01/Brigid-Day_DRAFT-2.png
END:VEVENT
END:VCALENDAR