BEGIN:VCALENDAR
VERSION:2.0
PRODID:-//Butte-Silver Bow Public Archives - ECPv6.15.20//NONSGML v1.0//EN
CALSCALE:GREGORIAN
METHOD:PUBLISH
X-ORIGINAL-URL:https://buttearchives.org
X-WR-CALDESC:Events for Butte-Silver Bow Public Archives
REFRESH-INTERVAL;VALUE=DURATION:PT1H
X-Robots-Tag:noindex
X-PUBLISHED-TTL:PT1H
BEGIN:VTIMEZONE
TZID:America/Denver
BEGIN:DAYLIGHT
TZOFFSETFROM:-0700
TZOFFSETTO:-0600
TZNAME:MDT
DTSTART:20250309T090000
END:DAYLIGHT
BEGIN:STANDARD
TZOFFSETFROM:-0600
TZOFFSETTO:-0700
TZNAME:MST
DTSTART:20251102T080000
END:STANDARD
BEGIN:DAYLIGHT
TZOFFSETFROM:-0700
TZOFFSETTO:-0600
TZNAME:MDT
DTSTART:20260308T090000
END:DAYLIGHT
BEGIN:STANDARD
TZOFFSETFROM:-0600
TZOFFSETTO:-0700
TZNAME:MST
DTSTART:20261101T080000
END:STANDARD
BEGIN:DAYLIGHT
TZOFFSETFROM:-0700
TZOFFSETTO:-0600
TZNAME:MDT
DTSTART:20270314T090000
END:DAYLIGHT
BEGIN:STANDARD
TZOFFSETFROM:-0600
TZOFFSETTO:-0700
TZNAME:MST
DTSTART:20271107T080000
END:STANDARD
END:VTIMEZONE
BEGIN:VEVENT
DTSTART;TZID=America/Denver:20260211T120000
DTEND;TZID=America/Denver:20260211T130000
DTSTAMP:20260423T070532
CREATED:20260112T191418Z
LAST-MODIFIED:20260202T222733Z
UID:29160-1770811200-1770814800@buttearchives.org
SUMMARY:Brown Bag Lunch: Hungry Hill Art Center - Michael Kujawa
DESCRIPTION:Please join us to learn about some of Butte’s more recent art history\, which will include how art made at the Hungry Hill Art Center helps create better food security for the people of Butte. This presentation by Michael Kujawa will cover a short history of pottery in Butte\, the creation of the Hungry Hill Art Center\, and what the Empty Bowls fundraiser means to the community of Butte. \nThe Brown Bag presentation will begin at noon on Wednesday\, February 11th\, 2026\, and will last about an hour. The presentation will be held in the auditorium at the Butte-Silver Bow Public Archives located at 17 W. Quartz Street. Guests are encouraged to bring a sack lunch. Coffee and water will be provided. \nBrown Bag Lunches are held on the second and fourth Wednesdays of every month. Upcoming lectures will focus on topics of local interest. For more information\, contact the Archives at (406)782-3280.
URL:https://buttearchives.org/event/brown-bag-lunch-hungry-hill-art-center-michael-kujawa/
LOCATION:Butte-Silver Bow Archives\, 17 West Quartz Street\, Butte\, MT\, 59701\, United States
ATTACH;FMTTYPE=image/jpeg:https://buttearchives.org/wp-content/uploads/2026/01/Hungry-Hill-Art-Center-logo.jpeg
END:VEVENT
END:VCALENDAR