BEGIN:VCALENDAR
VERSION:2.0
PRODID:-//Butte-Silver Bow Public Archives - ECPv6.15.20//NONSGML v1.0//EN
CALSCALE:GREGORIAN
METHOD:PUBLISH
X-WR-CALNAME:Butte-Silver Bow Public Archives
X-ORIGINAL-URL:https://buttearchives.org
X-WR-CALDESC:Events for Butte-Silver Bow Public Archives
REFRESH-INTERVAL;VALUE=DURATION:PT1H
X-Robots-Tag:noindex
X-PUBLISHED-TTL:PT1H
BEGIN:VTIMEZONE
TZID:America/Denver
BEGIN:DAYLIGHT
TZOFFSETFROM:-0700
TZOFFSETTO:-0600
TZNAME:MDT
DTSTART:20250309T090000
END:DAYLIGHT
BEGIN:STANDARD
TZOFFSETFROM:-0600
TZOFFSETTO:-0700
TZNAME:MST
DTSTART:20251102T080000
END:STANDARD
BEGIN:DAYLIGHT
TZOFFSETFROM:-0700
TZOFFSETTO:-0600
TZNAME:MDT
DTSTART:20260308T090000
END:DAYLIGHT
BEGIN:STANDARD
TZOFFSETFROM:-0600
TZOFFSETTO:-0700
TZNAME:MST
DTSTART:20261101T080000
END:STANDARD
BEGIN:DAYLIGHT
TZOFFSETFROM:-0700
TZOFFSETTO:-0600
TZNAME:MDT
DTSTART:20270314T090000
END:DAYLIGHT
BEGIN:STANDARD
TZOFFSETFROM:-0600
TZOFFSETTO:-0700
TZNAME:MST
DTSTART:20271107T080000
END:STANDARD
END:VTIMEZONE
BEGIN:VEVENT
DTSTART;TZID=America/Denver:20260226T180000
DTEND;TZID=America/Denver:20260226T190000
DTSTAMP:20260423T070120
CREATED:20260203T175039Z
LAST-MODIFIED:20260213T203910Z
UID:30447-1772128800-1772132400@buttearchives.org
SUMMARY:Romance of Butte Showing
DESCRIPTION:Join us for a screening of the silent film Romance of Butte. Shot in 1920\, this film showcases various scenes from Butte. Following the screening\, our Archives staff will present insights into the film’s creation.
URL:https://buttearchives.org/event/romance-of-butte-showing/
LOCATION:Butte-Silver Bow Archives\, 17 West Quartz Street\, Butte\, MT\, 59701\, United States
ATTACH;FMTTYPE=image/png:https://buttearchives.org/wp-content/uploads/2026/02/Screenshot-2026-02-03-104600-e1770140881107.png
END:VEVENT
END:VCALENDAR