BEGIN:VCALENDAR
VERSION:2.0
PRODID:-//Butte-Silver Bow Public Archives - ECPv6.15.20//NONSGML v1.0//EN
CALSCALE:GREGORIAN
METHOD:PUBLISH
X-ORIGINAL-URL:https://buttearchives.org
X-WR-CALDESC:Events for Butte-Silver Bow Public Archives
REFRESH-INTERVAL;VALUE=DURATION:PT1H
X-Robots-Tag:noindex
X-PUBLISHED-TTL:PT1H
BEGIN:VTIMEZONE
TZID:America/Denver
BEGIN:DAYLIGHT
TZOFFSETFROM:-0700
TZOFFSETTO:-0600
TZNAME:MDT
DTSTART:20250309T090000
END:DAYLIGHT
BEGIN:STANDARD
TZOFFSETFROM:-0600
TZOFFSETTO:-0700
TZNAME:MST
DTSTART:20251102T080000
END:STANDARD
BEGIN:DAYLIGHT
TZOFFSETFROM:-0700
TZOFFSETTO:-0600
TZNAME:MDT
DTSTART:20260308T090000
END:DAYLIGHT
BEGIN:STANDARD
TZOFFSETFROM:-0600
TZOFFSETTO:-0700
TZNAME:MST
DTSTART:20261101T080000
END:STANDARD
BEGIN:DAYLIGHT
TZOFFSETFROM:-0700
TZOFFSETTO:-0600
TZNAME:MDT
DTSTART:20270314T090000
END:DAYLIGHT
BEGIN:STANDARD
TZOFFSETFROM:-0600
TZOFFSETTO:-0700
TZNAME:MST
DTSTART:20271107T080000
END:STANDARD
END:VTIMEZONE
BEGIN:VEVENT
DTSTART;TZID=America/Denver:20260114T120000
DTEND;TZID=America/Denver:20260114T130000
DTSTAMP:20260421T023156
CREATED:20251203T223821Z
LAST-MODIFIED:20260113T182856Z
UID:28791-1768392000-1768395600@buttearchives.org
SUMMARY:Brown Bag Lunch: Our Lady of the Rockies - History of the Statue and Modern Changes
DESCRIPTION:Our Lady of the Rockies statue was completed in December 1985\, and she is now 40 years old! Please join us to learn more about the history of the Our Lady of the Rockies statue and organization from Barb Cadena-Kelly and Ron Gallardo. This presentation will also include information about the help volunteers have given over the years\, what is currently happening with the statue\, and the future of the statue. \nThe Brown Bag presentation will begin at noon on Wednesday\, January 14th\, 2026\, and will last about an hour. The presentation will be held in the auditorium at the Butte-Silver Bow Public Archives located at 17 W. Quartz Street. Guests are encouraged to bring a sack lunch. Coffee and water will be provided. \nBrown Bag Lunches are held on the second and fourth Wednesdays of every month. Upcoming lectures will focus on topics of local interest. For more information\, contact the Archives at (406)782-3280.
URL:https://buttearchives.org/event/brown-bag-lunch-our-lady-of-the-rockies-history-of-the-statue-and-modern-changes/
LOCATION:Butte-Silver Bow Archives\, 17 West Quartz Street\, Butte\, MT\, 59701\, United States
ATTACH;FMTTYPE=image/jpeg:https://buttearchives.org/wp-content/uploads/2025/12/2008.005-6-1985.jpg
END:VEVENT
BEGIN:VEVENT
DTSTART;VALUE=DATE:20260119
DTEND;VALUE=DATE:20260120
DTSTAMP:20260421T023156
CREATED:20260113T170342Z
LAST-MODIFIED:20260113T170342Z
UID:29177-1768780800-1768867199@buttearchives.org
SUMMARY:Closure - Martin Luther King Jr. Day
DESCRIPTION:Please note our office will be closed on January 19\, 2026\, in observance of Martin Luther King Jr. Day.
URL:https://buttearchives.org/event/closure-martin-luther-king-jr-day/
LOCATION:MT
ATTACH;FMTTYPE=image/jpeg:https://buttearchives.org/wp-content/uploads/2025/10/3303401.jpg
END:VEVENT
BEGIN:VEVENT
DTSTART;TZID=America/Denver:20260128T120000
DTEND;TZID=America/Denver:20260128T130000
DTSTAMP:20260421T023156
CREATED:20251219T212711Z
LAST-MODIFIED:20260120T213601Z
UID:28928-1769601600-1769605200@buttearchives.org
SUMMARY:Brown Bag Lunch: Parrot Tailings Waste Removal Project - Water & Environmental Technologies
DESCRIPTION:This presentation will cover the Parrot Tailings Waste Removal Project. The Parrot Tailings Waste Removal Project was a waste removal project in the Silver Bow Creek corridor near the Civic Center that was completed in 2023 and funded by the Natural Resource Damage Program. Information will include site history\, waste removal design and construction\, reclamation design and construction\, current land uses\, and challenges overcome during the project. The presentation will be presented by Water & Environmental Technologies. \nThe Brown Bag presentation will begin at noon on Wednesday\, January 28th\, 2026\, and will last about an hour. The presentation will be held in the auditorium at the Butte-Silver Bow Public Archives located at 17 W. Quartz Street. Guests are encouraged to bring a sack lunch. Coffee and water will be provided. \nBrown Bag Lunches are held on the second and fourth Wednesdays of every month. Upcoming lectures will focus on topics of local interest. For more information\, contact the Archives at (406)782-3280.
URL:https://buttearchives.org/event/brown-bag-lunch-parrot-tailings-removal-project-water-environmental-technologies/
LOCATION:Butte-Silver Bow Archives\, 17 West Quartz Street\, Butte\, MT\, 59701\, United States
ATTACH;FMTTYPE=image/jpeg:https://buttearchives.org/wp-content/uploads/2025/12/3026901-large.jpg
END:VEVENT
BEGIN:VEVENT
DTSTART;VALUE=DATE:20260129
DTEND;VALUE=DATE:20260131
DTSTAMP:20260421T023156
CREATED:20260113T170534Z
LAST-MODIFIED:20260113T170534Z
UID:29180-1769644800-1769817599@buttearchives.org
SUMMARY:Closure - January 29th & 30th
DESCRIPTION:Please note our office will be closed to the public on January 29th and 30th for staff training.
URL:https://buttearchives.org/event/closure-january-29th-30th/
LOCATION:MT
ATTACH;FMTTYPE=image/jpeg:https://buttearchives.org/wp-content/uploads/2025/10/3303401.jpg
END:VEVENT
END:VCALENDAR