BEGIN:VCALENDAR
VERSION:2.0
PRODID:-//Butte-Silver Bow Public Archives - ECPv6.15.20//NONSGML v1.0//EN
CALSCALE:GREGORIAN
METHOD:PUBLISH
X-ORIGINAL-URL:https://buttearchives.org
X-WR-CALDESC:Events for Butte-Silver Bow Public Archives
REFRESH-INTERVAL;VALUE=DURATION:PT1H
X-Robots-Tag:noindex
X-PUBLISHED-TTL:PT1H
BEGIN:VTIMEZONE
TZID:America/Denver
BEGIN:DAYLIGHT
TZOFFSETFROM:-0700
TZOFFSETTO:-0600
TZNAME:MDT
DTSTART:20250309T090000
END:DAYLIGHT
BEGIN:STANDARD
TZOFFSETFROM:-0600
TZOFFSETTO:-0700
TZNAME:MST
DTSTART:20251102T080000
END:STANDARD
BEGIN:DAYLIGHT
TZOFFSETFROM:-0700
TZOFFSETTO:-0600
TZNAME:MDT
DTSTART:20260308T090000
END:DAYLIGHT
BEGIN:STANDARD
TZOFFSETFROM:-0600
TZOFFSETTO:-0700
TZNAME:MST
DTSTART:20261101T080000
END:STANDARD
BEGIN:DAYLIGHT
TZOFFSETFROM:-0700
TZOFFSETTO:-0600
TZNAME:MDT
DTSTART:20270314T090000
END:DAYLIGHT
BEGIN:STANDARD
TZOFFSETFROM:-0600
TZOFFSETTO:-0700
TZNAME:MST
DTSTART:20271107T080000
END:STANDARD
END:VTIMEZONE
BEGIN:VEVENT
DTSTART;TZID=America/Denver:20260513T120000
DTEND;TZID=America/Denver:20260513T130000
DTSTAMP:20260423T100528
CREATED:20260325T163708Z
LAST-MODIFIED:20260325T163708Z
UID:30860-1778673600-1778677200@buttearchives.org
SUMMARY:Brown Bag Lunch Series: "The World Museum of Mining's Memorial Wall & Garden" - David Armstrong
DESCRIPTION:The Brown Bag presentation will begin at noon on Wednesday\, May 13th\, 2026\, and will last about an hour. The presentation will be held in the auditorium at the Butte-Silver Bow Public Archives\, located at 17 W. Quartz Street. Guests are encouraged to bring a sack lunch. Coffee and water will be provided. \nBrown Bag Lunches are held on the second and fourth Wednesdays of every month. Upcoming lectures will focus on topics of local interest. For more information\, contact the Archives at (406)782-3280. \nMore information to follow.
URL:https://buttearchives.org/event/brown-bag-lunch-series-the-world-museum-of-minings-memorial-wall-garden-david-armstrong/
LOCATION:Butte-Silver Bow Archives\, 17 West Quartz Street\, Butte\, MT\, 59701\, United States
ATTACH;FMTTYPE=image/jpeg:https://buttearchives.org/wp-content/uploads/2026/03/4000601-large.jpg
END:VEVENT
BEGIN:VEVENT
DTSTART;TZID=America/Denver:20260527T120000
DTEND;TZID=America/Denver:20260527T130000
DTSTAMP:20260423T100528
CREATED:20260331T191742Z
LAST-MODIFIED:20260331T193319Z
UID:30896-1779883200-1779886800@buttearchives.org
SUMMARY:Brown Bag Lunch Series: "History and Restoration of Engine No. 25" - Al Hess & Ron Gruss
DESCRIPTION:The Brown Bag presentation will begin at noon on Wednesday\, May 27th\, 2026\, and will last about an hour. The presentation will be held in the auditorium at the Butte-Silver Bow Public Archives\, located at 17 W. Quartz Street. Guests are encouraged to bring a sack lunch. Coffee and water will be provided. \nBrown Bag Lunches are held on the second and fourth Wednesdays of every month. Upcoming lectures will focus on topics of local interest. For more information\, contact the Archives at (406)782-3280. \nMore information to follow.
URL:https://buttearchives.org/event/brown-bag-lunch-series-history-and-restoration-of-engine-no-25-al-hess-ron-gruss/
LOCATION:Butte-Silver Bow Archives\, 17 West Quartz Street\, Butte\, MT\, 59701\, United States
ATTACH;FMTTYPE=image/jpeg:https://buttearchives.org/wp-content/uploads/2026/03/83.116.01-07-4-Engine-No.-25-1958.jpg
END:VEVENT
END:VCALENDAR